BEGIN:VCALENDAR
VERSION:2.0
PRODID:-//Serwis Internetowy Gminy Hyżne - ECPv6.15.20//NONSGML v1.0//EN
CALSCALE:GREGORIAN
METHOD:PUBLISH
X-ORIGINAL-URL:https://hyzne.pl
X-WR-CALDESC:Wydarzenia dla Serwis Internetowy Gminy Hyżne
REFRESH-INTERVAL;VALUE=DURATION:PT1H
X-Robots-Tag:noindex
X-PUBLISHED-TTL:PT1H
BEGIN:VTIMEZONE
TZID:Europe/Warsaw
BEGIN:DAYLIGHT
TZOFFSETFROM:+0100
TZOFFSETTO:+0200
TZNAME:CEST
DTSTART:20250330T010000
END:DAYLIGHT
BEGIN:STANDARD
TZOFFSETFROM:+0200
TZOFFSETTO:+0100
TZNAME:CET
DTSTART:20251026T010000
END:STANDARD
BEGIN:DAYLIGHT
TZOFFSETFROM:+0100
TZOFFSETTO:+0200
TZNAME:CEST
DTSTART:20260329T010000
END:DAYLIGHT
BEGIN:STANDARD
TZOFFSETFROM:+0200
TZOFFSETTO:+0100
TZNAME:CET
DTSTART:20261025T010000
END:STANDARD
BEGIN:DAYLIGHT
TZOFFSETFROM:+0100
TZOFFSETTO:+0200
TZNAME:CEST
DTSTART:20270328T010000
END:DAYLIGHT
BEGIN:STANDARD
TZOFFSETFROM:+0200
TZOFFSETTO:+0100
TZNAME:CET
DTSTART:20271031T010000
END:STANDARD
END:VTIMEZONE
BEGIN:VEVENT
DTSTART;TZID=Europe/Warsaw:20260307T170000
DTEND;TZID=Europe/Warsaw:20260307T170000
DTSTAMP:20260420T203545
CREATED:20260227T112635Z
LAST-MODIFIED:20260306T074053Z
UID:15408-1772902800-1772902800@hyzne.pl
SUMMARY:DZIEŃ KOBIET we włoskim stylu
DESCRIPTION:
URL:https://hyzne.pl/event/dzien-kobiet-we-wloskim-stylu/
LOCATION:GOK Hyżne\, Hyżne 182\, Poland
ATTACH;FMTTYPE=image/jpeg:https://hyzne.pl/wp-content/uploads/2026/02/641692355_911521804959984_6117072557752963982_n.jpg
END:VEVENT
BEGIN:VEVENT
DTSTART;TZID=Europe/Warsaw:20260329T140000
DTEND;TZID=Europe/Warsaw:20260329T180000
DTSTAMP:20260420T203545
CREATED:20260305T141659Z
LAST-MODIFIED:20260305T141659Z
UID:15432-1774792800-1774807200@hyzne.pl
SUMMARY:IV HYŻNEŃSKI JARMARK WIELKANOCNY
DESCRIPTION:
URL:https://hyzne.pl/event/iv-hyznenski-jarmark-wielkanocny/
LOCATION:Plac targowy\, Hyżne
ATTACH;FMTTYPE=image/jpeg:https://hyzne.pl/wp-content/uploads/2026/03/jarmark-wielkanocny.jpg
END:VEVENT
END:VCALENDAR