BEGIN:VCALENDAR
VERSION:2.0
PRODID:-//Serwis Internetowy Gminy Hyżne - ECPv6.15.20//NONSGML v1.0//EN
CALSCALE:GREGORIAN
METHOD:PUBLISH
X-ORIGINAL-URL:https://hyzne.pl
X-WR-CALDESC:Wydarzenia dla Serwis Internetowy Gminy Hyżne
REFRESH-INTERVAL;VALUE=DURATION:PT1H
X-Robots-Tag:noindex
X-PUBLISHED-TTL:PT1H
BEGIN:VTIMEZONE
TZID:Europe/Warsaw
BEGIN:DAYLIGHT
TZOFFSETFROM:+0100
TZOFFSETTO:+0200
TZNAME:CEST
DTSTART:20210328T010000
END:DAYLIGHT
BEGIN:STANDARD
TZOFFSETFROM:+0200
TZOFFSETTO:+0100
TZNAME:CET
DTSTART:20211031T010000
END:STANDARD
BEGIN:DAYLIGHT
TZOFFSETFROM:+0100
TZOFFSETTO:+0200
TZNAME:CEST
DTSTART:20220327T010000
END:DAYLIGHT
BEGIN:STANDARD
TZOFFSETFROM:+0200
TZOFFSETTO:+0100
TZNAME:CET
DTSTART:20221030T010000
END:STANDARD
BEGIN:DAYLIGHT
TZOFFSETFROM:+0100
TZOFFSETTO:+0200
TZNAME:CEST
DTSTART:20230326T010000
END:DAYLIGHT
BEGIN:STANDARD
TZOFFSETFROM:+0200
TZOFFSETTO:+0100
TZNAME:CET
DTSTART:20231029T010000
END:STANDARD
END:VTIMEZONE
BEGIN:VEVENT
DTSTART;VALUE=DATE:20220514
DTEND;VALUE=DATE:20220515
DTSTAMP:20260421T185312
CREATED:20220223T075519Z
LAST-MODIFIED:20220510T113250Z
UID:6678-1652486400-1652572799@hyzne.pl
SUMMARY:Noc Muzeów
DESCRIPTION: 
URL:https://hyzne.pl/event/noc-muzeow/
END:VEVENT
BEGIN:VEVENT
DTSTART;TZID=Europe/Warsaw:20220510T080000
DTEND;TZID=Europe/Warsaw:20220510T140000
DTSTAMP:20260421T185312
CREATED:20220504T102719Z
LAST-MODIFIED:20220504T102719Z
UID:7395-1652169600-1652191200@hyzne.pl
SUMMARY:Gminny turniej w piłce siatkowej
DESCRIPTION:Gminny turniej w piłce siatkowej
URL:https://hyzne.pl/event/tur-siat/
LOCATION:Szkoła Podstawowa w Hyżnem
END:VEVENT
BEGIN:VEVENT
DTSTART;TZID=Europe/Warsaw:20220508T140000
DTEND;TZID=Europe/Warsaw:20220508T150000
DTSTAMP:20260421T185312
CREATED:20220504T101134Z
LAST-MODIFIED:20220504T101134Z
UID:7381-1652018400-1652022000@hyzne.pl
SUMMARY:Zebranie wiejskie Nieborów
DESCRIPTION:Zebranie wiejskie Nieborów
URL:https://hyzne.pl/event/zeb-nieborow/
LOCATION:Dom strażaka w Nieborowie
END:VEVENT
BEGIN:VEVENT
DTSTART;TZID=Europe/Warsaw:20220508T090000
DTEND;TZID=Europe/Warsaw:20220508T100000
DTSTAMP:20260421T185312
CREATED:20220504T100907Z
LAST-MODIFIED:20220504T101248Z
UID:7378-1652000400-1652004000@hyzne.pl
SUMMARY:Zebranie wiejskie Szklary
DESCRIPTION:Zebranie wiejskie Szklary
URL:https://hyzne.pl/event/zeb-szklary/
LOCATION:Stara szkoła Szklary
END:VEVENT
BEGIN:VEVENT
DTSTART;VALUE=DATE:20220411
DTEND;VALUE=DATE:20220416
DTSTAMP:20260421T185312
CREATED:20220328T121809Z
LAST-MODIFIED:20220330T071740Z
UID:7199-1649635200-1650067199@hyzne.pl
SUMMARY:Nabór do żłobka
DESCRIPTION:Nabór wniosków o przyjęcie dziecka do żłobka „Słoneczko”
URL:https://hyzne.pl/event/nab-wn-zlobek/
END:VEVENT
BEGIN:VEVENT
DTSTART;VALUE=DATE:20220409
DTEND;VALUE=DATE:20220410
DTSTAMP:20260421T185312
CREATED:20220401T132915Z
LAST-MODIFIED:20220401T132915Z
UID:7255-1649462400-1649548799@hyzne.pl
SUMMARY:Sprzątanie Gminy
DESCRIPTION:Zbierz przyjaciół i rodzinę – posprzątajmy naszą gminę!
URL:https://hyzne.pl/event/sprz-gm-k/
END:VEVENT
BEGIN:VEVENT
DTSTART;VALUE=DATE:20220321
DTEND;VALUE=DATE:20220412
DTSTAMP:20260421T185312
CREATED:20220223T074802Z
LAST-MODIFIED:20220223T124920Z
UID:6676-1647820800-1649721599@hyzne.pl
SUMMARY:Konkurs
DESCRIPTION:Konkurs na najpiękniejszą pisankę wielkanocną tradycyjna i współczesną.
URL:https://hyzne.pl/event/konkurs/
LOCATION:GOK Hyżne\, Hyżne 182\, Poland
END:VEVENT
BEGIN:VEVENT
DTSTART;TZID=Europe/Warsaw:20220311T170000
DTEND;TZID=Europe/Warsaw:20220311T210000
DTSTAMP:20260421T185312
CREATED:20220223T074500Z
LAST-MODIFIED:20220304T124534Z
UID:6674-1647018000-1647032400@hyzne.pl
SUMMARY:Dzień Kobiet
DESCRIPTION:Dzień Kobiet.\nSpotkanie okolicznościowe.
URL:https://hyzne.pl/event/dzien-kobiet/
LOCATION:GOK Hyżne\, Hyżne 182\, Poland
END:VEVENT
BEGIN:VEVENT
DTSTART;TZID=Europe/Warsaw:20220213T160000
DTEND;TZID=Europe/Warsaw:20220213T190000
DTSTAMP:20260421T185312
CREATED:20160316T114808Z
LAST-MODIFIED:20220211T074528Z
UID:615-1644768000-1644778800@hyzne.pl
SUMMARY:Koncert
DESCRIPTION:
URL:https://hyzne.pl/event/wydarzenie-1/
LOCATION:GOK Hyżne\, Hyżne 182\, Poland
CATEGORIES:Koncert
ATTACH;FMTTYPE=image/jpeg:https://hyzne.pl/wp-content/uploads/2022/02/Plakat-koncert-orkiestry_s.jpg
ORGANIZER;CN="Gmina Hy%C5%BCne":MAILTO:urzad@hyzne.pl
END:VEVENT
END:VCALENDAR